BEGIN:VCALENDAR
VERSION:2.0
PRODID:-//hacksw/handcal//NONSGML v1.0//EN
BEGIN:VEVENT
SUMMARY:Stage vacances GYM - MULTIACTIVITES
UID:8d5edb31-7cdd-4cd8-9331-0f6f6ef1584b
DTSTART:20260412T220000Z
DTEND:20260417T220000Z
LOCATION:Localisation   
CATEGORIES:Sportif
STATUS:
DESCRIPTION:<p><b>Stage journee ou 1/2 journee </b>a la salle de
 gymnastique Jeanne Trouillet</p>
 
 <p><strong>Tarif
 : </strong></p>
 
 <ul>
 	<li><strong>25 € / jour  - Gouter inclu
 - Repas du midi non compris et a
 apporter</strong></li>
 	<li><strong>15 € / demi-journee (8h30-12h
 ou 14h-17h30)</strong></li>
 </ul>
 
 <p><em>Programme
 : </em></p>
 
 <ul>
 	<li>08h30 a 09h15 : Accueil dans la salle de
 gym</li>
 	<li>09h15 a 12h00 : Gymnastique</li>
 	<li>12h00 a 14h00 :
 Repas (repas tire du sac) et Temps calme</li>
 	<li>14h00 a 16h45 :
 Jeux / Activites / Multisports (dans le gymnase ou en exterieur a
 proximite du gymnase : parc, stade foot, etc)</li>
 	<li>16h45 a
 17h30 : Gouter et accueil dans la salle de gym</li>
 </ul>
 
 <p><em>Les
 affaires a prevoir : </em></p>
 
 <ul>
 	<li>Tenue et affaire de gym /
 sport</li>
 	<li>Claquette pour dans le gymnase</li>
 	<li>Basket pour
 les jeux en exterieur </li>
 	<li>Casquette, lunettes de
 soleil</li>
 	<li>Pique-nique</li>
 </ul>
URL;VALUE=URI:https://ja-gym.sportsregions.fr/evenements/2026/04/13/stage-vacances-gym-multiactivites-2424884
END:VEVENT
END:VCALENDAR
